BEGIN:VCALENDAR
VERSION:2.0
PRODID:-//BRAA BAR - ECPv6.15.20//NONSGML v1.0//EN
CALSCALE:GREGORIAN
METHOD:PUBLISH
X-WR-CALNAME:BRAA BAR
X-ORIGINAL-URL:https://braabar.no
X-WR-CALDESC:Arrangement for BRAA BAR
REFRESH-INTERVAL;VALUE=DURATION:PT1H
X-Robots-Tag:noindex
X-PUBLISHED-TTL:PT1H
BEGIN:VTIMEZONE
TZID:Europe/Oslo
BEGIN:DAYLIGHT
TZOFFSETFROM:+0100
TZOFFSETTO:+0200
TZNAME:CEST
DTSTART:20250330T010000
END:DAYLIGHT
BEGIN:STANDARD
TZOFFSETFROM:+0200
TZOFFSETTO:+0100
TZNAME:CET
DTSTART:20251026T010000
END:STANDARD
BEGIN:DAYLIGHT
TZOFFSETFROM:+0100
TZOFFSETTO:+0200
TZNAME:CEST
DTSTART:20260329T010000
END:DAYLIGHT
BEGIN:STANDARD
TZOFFSETFROM:+0200
TZOFFSETTO:+0100
TZNAME:CET
DTSTART:20261025T010000
END:STANDARD
BEGIN:DAYLIGHT
TZOFFSETFROM:+0100
TZOFFSETTO:+0200
TZNAME:CEST
DTSTART:20270328T010000
END:DAYLIGHT
BEGIN:STANDARD
TZOFFSETFROM:+0200
TZOFFSETTO:+0100
TZNAME:CET
DTSTART:20271031T010000
END:STANDARD
END:VTIMEZONE
BEGIN:VEVENT
DTSTART;TZID=Europe/Oslo:20260423T190000
DTEND;TZID=Europe/Oslo:20260423T190000
DTSTAMP:20260420T002041
CREATED:20260323T104609Z
LAST-MODIFIED:20260323T104851Z
UID:738-1776970800-1776970800@braabar.no
SUMMARY:LYGARKVELD VOL. 7 PÅ BRAA!
DESCRIPTION:GODE HISTORIER OG DRØYE SKRØNER! \nInge Kristiansen med gjestene Per Arne Lynum og Arnljot Aglen sørger for ei trivselsstund med fornøyelige skrøner\, historier og de mest utrolige fortellingene der sannheten kanskje ikke alltid er det viktigste. Og har du en historie å dele\, er mikrofonen din. Kvelden blir enda bedre med litt mat innabords. Vår tradisjonsrike buffet er åpen fra kl. 17.30 (må bestilles). \nHusk å legg inn hvem du har planlagt å dele bord med når du bestiller billett. \nMiddagsbuffet fra kl. 17:30 til 18:45: kun 550\,- per person. Det lyges fra ca kl. 19:00 til 21:30 (inkl pause): kun 200\,- per person.
URL:https://braabar.no/arrangementer/lygarkveld-vol-7-pa-braa-2/
END:VEVENT
END:VCALENDAR